BEGIN:VCALENDAR
VERSION:2.0
PRODID:-//Fédécirque - ECPv6.15.16//NONSGML v1.0//EN
CALSCALE:GREGORIAN
METHOD:PUBLISH
X-WR-CALNAME:Fédécirque
X-ORIGINAL-URL:https://www.fedecirque.be
X-WR-CALDESC:Évènements pour Fédécirque
REFRESH-INTERVAL;VALUE=DURATION:PT1H
X-Robots-Tag:noindex
X-PUBLISHED-TTL:PT1H
BEGIN:VTIMEZONE
TZID:Europe/Brussels
BEGIN:DAYLIGHT
TZOFFSETFROM:+0100
TZOFFSETTO:+0200
TZNAME:CEST
DTSTART:20250330T010000
END:DAYLIGHT
BEGIN:STANDARD
TZOFFSETFROM:+0200
TZOFFSETTO:+0100
TZNAME:CET
DTSTART:20251026T010000
END:STANDARD
BEGIN:DAYLIGHT
TZOFFSETFROM:+0100
TZOFFSETTO:+0200
TZNAME:CEST
DTSTART:20260329T010000
END:DAYLIGHT
BEGIN:STANDARD
TZOFFSETFROM:+0200
TZOFFSETTO:+0100
TZNAME:CET
DTSTART:20261025T010000
END:STANDARD
BEGIN:DAYLIGHT
TZOFFSETFROM:+0100
TZOFFSETTO:+0200
TZNAME:CEST
DTSTART:20270328T010000
END:DAYLIGHT
BEGIN:STANDARD
TZOFFSETFROM:+0200
TZOFFSETTO:+0100
TZNAME:CET
DTSTART:20271031T010000
END:STANDARD
END:VTIMEZONE
BEGIN:VEVENT
DTSTART;TZID=Europe/Brussels:20260331T090000
DTEND;TZID=Europe/Brussels:20260331T163000
DTSTAMP:20260420T053858
CREATED:20260217T082350Z
LAST-MODIFIED:20260217T085203Z
UID:34344-1774947600-1774974600@www.fedecirque.be
SUMMARY:"Show must go on" - Formation IMPRO
DESCRIPTION:Pitch de la formation :\nShow Must Go On est une formation d’une journée qui invite les apprenants à expérimenter ensemble des jeux et techniques d’improvisation directement réutilisables dans leurs cours et formations\, toutes disciplines confondues.À travers la pratique\, ils découvrent comment l’improvisation peut aider les élèves à se révéler sur scène\, à être à l’aise aussi bien avec un personnage construit qu’avec eux-mêmes\, en s’appuyant sur des émotions réellement vécues dans l’instant plutôt que fabriquées.L’accent est mis sur l’écoute\, la présence\, l’adaptation et le plaisir de jouer à partir de ce qui émerge ici et maintenant\, pour un jeu plus juste et plus vivant.Des temps d’échange entre formateurs permettent de réfléchir collectivement à ce qui fonctionne le mieux selon les publics\, les âges et les contextes d’enseignement.\nObjectifs d’apprentissage:\nÀ l’issue de la formation\, les participants seront capables de :\nutiliser des jeux et techniques d’improvisation au sein de leurs ateliers de formation ;accompagner les élèves dans le développement de leur présence scénique et de leur aisance au jeu ;favoriser l’émergence d’émotions authentiques à travers le jeu improvisé ;stimuler la créativité\, l’écoute et l’adaptabilité ;adapter et intégrer ces outils selon leur discipline\, leur public et leur cadre pédagogique.\n31.03.2026Ball’Istik – Ecole de Cirque – Grandlise 35€/membre Fédécirque – 45€/nom membreIntervenant : Haddock – Mathieu Viseur\nPrêt.e à booster ton impro ?\n\nINSCRIPTION EN LIGNE ICI
URL:https://www.fedecirque.be/event/show-must-go-on-formation-impro/
CATEGORIES:FORMATION
ATTACH;FMTTYPE=image/png:https://www.fedecirque.be/wp-content/uploads/2026/02/1.png
END:VEVENT
BEGIN:VEVENT
DTSTART;TZID=Europe/Brussels:20260321T120000
DTEND;TZID=Europe/Brussels:20260321T220000
DTSTAMP:20260420T053858
CREATED:20260213T133540Z
LAST-MODIFIED:20260217T081945Z
UID:34320-1774094400-1774130400@www.fedecirque.be
SUMMARY:Cirque en Campagne
DESCRIPTION:CIRQUE EN CAMPAGNE \n21.03.2026\nLatitude 50 – pôle des arts du cirque et de la rue – Place de Grand-Marchin 3 -4570 Marchin\n\n\nJournée d’échanges et de rencontres de la filière cirque.\n\n\nA nos écoles membres\, pensez à vous inscrire !\n\n\nLes ateliers :\n\n\n Mât chinois pour prendre de la hauteur avec Camille Bekkers\n Contorsion & mobilité pour explorer les limites du corps avec Jeanne Antore Cobetto\n Accro pour l’énergie et la dynamique collective avec Ray\n Close-up cartomagie pour épater… et se faire surprendre avec Seb le Magicien\n\n\nUne organisation de Latitude 50 – pôle des arts du cirque et de la rue en partenariat avec la Fédécirque\, avec le soutien de l’ Ecole de Cirque de Marchin .
URL:https://www.fedecirque.be/event/cirque-en-camapagne/
END:VEVENT
END:VCALENDAR