BEGIN:VCALENDAR
VERSION:2.0
PRODID:-//Fédécirque - ECPv6.15.16//NONSGML v1.0//EN
CALSCALE:GREGORIAN
METHOD:PUBLISH
X-WR-CALNAME:Fédécirque
X-ORIGINAL-URL:https://www.fedecirque.be
X-WR-CALDESC:Évènements pour Fédécirque
REFRESH-INTERVAL;VALUE=DURATION:PT1H
X-Robots-Tag:noindex
X-PUBLISHED-TTL:PT1H
BEGIN:VTIMEZONE
TZID:Europe/Brussels
BEGIN:DAYLIGHT
TZOFFSETFROM:+0100
TZOFFSETTO:+0200
TZNAME:CEST
DTSTART:20250330T010000
END:DAYLIGHT
BEGIN:STANDARD
TZOFFSETFROM:+0200
TZOFFSETTO:+0100
TZNAME:CET
DTSTART:20251026T010000
END:STANDARD
BEGIN:DAYLIGHT
TZOFFSETFROM:+0100
TZOFFSETTO:+0200
TZNAME:CEST
DTSTART:20260329T010000
END:DAYLIGHT
BEGIN:STANDARD
TZOFFSETFROM:+0200
TZOFFSETTO:+0100
TZNAME:CET
DTSTART:20261025T010000
END:STANDARD
BEGIN:DAYLIGHT
TZOFFSETFROM:+0100
TZOFFSETTO:+0200
TZNAME:CEST
DTSTART:20270328T010000
END:DAYLIGHT
BEGIN:STANDARD
TZOFFSETFROM:+0200
TZOFFSETTO:+0100
TZNAME:CET
DTSTART:20271031T010000
END:STANDARD
END:VTIMEZONE
BEGIN:VEVENT
DTSTART;TZID=Europe/Brussels:20260425T100000
DTEND;TZID=Europe/Brussels:20260425T170000
DTSTAMP:20260420T013737
CREATED:20260217T085425Z
LAST-MODIFIED:20260217T094133Z
UID:34355-1777111200-1777136400@www.fedecirque.be
SUMMARY:Carte Blanche à la Fédécirque au Festival HOPLA!
DESCRIPTION:Samedi 25.04.2026 à Bruxelles \n🎪 Une scène exceptionnelle pour nos jeunes artistes ! \nCette édition mettra comme chaque année les jeunes circassien·nes du réseau Fédécirque à l’honneur.\nC’est une opportunité unique pour les élèves de se produire dans un festival emblématique et de représenter fièrement les écoles devant un public large\, curieux et enthousiaste. \n🕰️Spectacle gratuit de 14h à 17h \n👏Découvrez la créativité et l’audace de la relève circassienne lors de leur représentation à HOPLA! \nInfos : info@fedecirque.be \nCarte Blanche à la Fédécirque\, en partenariat avec la  Ville de Bruxelles et mise en piste par l’Ecole de Cirque de Bruxelles.
URL:https://www.fedecirque.be/event/carte-blanche-a-la-fedecirque-au-festival-hopla/
CATEGORIES:Rencontres Jeunes
END:VEVENT
BEGIN:VEVENT
DTSTART;TZID=Europe/Brussels:20260529T090000
DTEND;TZID=Europe/Brussels:20260529T163000
DTSTAMP:20260420T013737
CREATED:20260217T084854Z
LAST-MODIFIED:20260217T084955Z
UID:34352-1780045200-1780072200@www.fedecirque.be
SUMMARY:Formation : Jonglerie - lancers harmoniques
DESCRIPTION:📍Le Cirque du Doudou : Résidence Charles Plisnier 28b\, 7011 Mons \n💶 35€/membre Fédécirque – 45€/non membre \nDétails à venir. \nInfos : info@fedecirque.be \n 
URL:https://www.fedecirque.be/event/formation-jonglerie-lancers-harmoniques/
CATEGORIES:FORMATION
ATTACH;FMTTYPE=image/png:https://www.fedecirque.be/wp-content/uploads/2026/02/Master-class-jonglerie-lancers-harmoniques.png
ORGANIZER;CN="F%C3%A9d%C3%A9cirque":MAILTO:info@fedecirque.be
END:VEVENT
BEGIN:VEVENT
DTSTART;TZID=Europe/Brussels:20260613T093000
DTEND;TZID=Europe/Brussels:20260613T163000
DTSTAMP:20260420T013737
CREATED:20260319T092150Z
LAST-MODIFIED:20260319T092150Z
UID:34434-1781343000-1781368200@www.fedecirque.be
SUMMARY:Formation RIGGING - module 2 - Jour 1
DESCRIPTION:Rigging 2 \nCe second module vous permettra d’aller plus loin dans la maîtrise du rigging\, avec une approche concrète\, technique et orientée terrain. \nAu programme : \n• Révision des nœuds\n• Calcul de charge\n• Utilisation des EPI\n• Grimpe sur corde / ferme\n• Levage avec poulies et nœuds \nAteliers pratiques : \n• Contrôle d’une installation existante\n• Réalisation d’une installation\n• Montage et démontage d’un portique \n 
URL:https://www.fedecirque.be/event/formation-rigging-module-2-jour-1/
CATEGORIES:FORMATION
END:VEVENT
BEGIN:VEVENT
DTSTART;TZID=Europe/Brussels:20260614T093000
DTEND;TZID=Europe/Brussels:20260614T163000
DTSTAMP:20260420T013737
CREATED:20260319T092403Z
LAST-MODIFIED:20260319T092403Z
UID:34444-1781429400-1781454600@www.fedecirque.be
SUMMARY:Formation Rigging module 2 - Jour 2
DESCRIPTION:
URL:https://www.fedecirque.be/event/formation-rigging-module-2-jour-2/
END:VEVENT
BEGIN:VEVENT
DTSTART;TZID=Europe/Brussels:20260707T080000
DTEND;TZID=Europe/Brussels:20260707T170000
DTSTAMP:20260420T013737
CREATED:20260217T135816Z
LAST-MODIFIED:20260217T135816Z
UID:34416-1783411200-1783443600@www.fedecirque.be
SUMMARY:Les jeunes et la Fédé : la rencontre au P'tit Circ'en Palc
DESCRIPTION:Des liens\, des pistes\, une Fédé : animateur.ice\, artiste\, ou juste loisirs ? \nQuelle sera ta voie dans le cirque ? \nDécouverte des actions de la Fédécirque : formations\, événements\, rencontres\, … \nRencontre avec des professionnel.les \nWorkshops \nUne organisation de l’Ecole de Cirque du Brabant Wallon en partenariat avec la Fédécirque. \nCette journée s’inscrit dans la semaine de résidence au P’tit Circ’en Palc à Wavre.
URL:https://www.fedecirque.be/event/les-jeunes-et-la-fede-la-rencontre-au-ptit-circen-palc/
END:VEVENT
BEGIN:VEVENT
DTSTART;TZID=Europe/Brussels:20260917T093000
DTEND;TZID=Europe/Brussels:20260917T163000
DTSTAMP:20260420T013737
CREATED:20260217T094503Z
LAST-MODIFIED:20260217T094503Z
UID:34366-1789637400-1789662600@www.fedecirque.be
SUMMARY:Formation "Communication bienveillante"
DESCRIPTION:Formation – Communiquer avec authenticité et souplesse\, les bases d’une communication bienveillante \nSur 2 jours \nComprendre et mettre en pratique l’intelligence des besoins\, basée notamment sur les travaux de Marshall Rosenberg\, le fondateur de la Communication Non-violente. \n📅17 & 22.09.2026 \nIntervenante : Aline Tawk de Incidence – La Fédération de la Créativité et des Arts en amateur \n📍à définir
URL:https://www.fedecirque.be/event/formation-communication-bienveillante/
CATEGORIES:FORMATION
ATTACH;FMTTYPE=image/png:https://www.fedecirque.be/wp-content/uploads/2026/02/communication-bienveillante.png
ORGANIZER;CN="F%C3%A9d%C3%A9cirque":MAILTO:info@fedecirque.be
END:VEVENT
BEGIN:VEVENT
DTSTART;TZID=Europe/Brussels:20260922T093000
DTEND;TZID=Europe/Brussels:20260922T163000
DTSTAMP:20260420T013737
CREATED:20260217T094538Z
LAST-MODIFIED:20260217T094538Z
UID:34369-1790069400-1790094600@www.fedecirque.be
SUMMARY:Formation "Communication bienveillante"
DESCRIPTION:Formation – Communiquer avec authenticité et souplesse\, les bases d’une communication bienveillante \nSur 2 jours \nComprendre et mettre en pratique l’intelligence des besoins\, basée notamment sur les travaux de Marshall Rosenberg\, le fondateur de la Communication Non-violente. \n📅17 & 22.09.2026 \nIntervenante : Aline Tawk de Incidence – La Fédération de la Créativité et des Arts en amateur \n📍à définir
URL:https://www.fedecirque.be/event/formation-communication-bienveillante-2/
CATEGORIES:FORMATION
ATTACH;FMTTYPE=image/png:https://www.fedecirque.be/wp-content/uploads/2026/02/communication-bienveillante.png
ORGANIZER;CN="F%C3%A9d%C3%A9cirque":MAILTO:info@fedecirque.be
END:VEVENT
BEGIN:VEVENT
DTSTART;TZID=Europe/Brussels:20261017T103000
DTEND;TZID=Europe/Brussels:20261017T220000
DTSTAMP:20260420T013737
CREATED:20260217T095437Z
LAST-MODIFIED:20260217T103909Z
UID:34371-1792233000-1792274400@www.fedecirque.be
SUMMARY:CIRQ'CONNEXION - La convention de cirque de la Fédécirque
DESCRIPTION:🎪 Cirqu’Connexion revient le 17 octobre ! \nOn se retrouve pour la seconde édition de notre convention :des ateliers\, de belles rencontres\, une énergie collective au rendez-vous… et un gala pour clôturer la journée en beauté ✨ \nUne journée pour pratiquer\, échanger et célébrer le cirque ensemble. \nRestez connectés pour les infos à venir !
URL:https://www.fedecirque.be/event/cirqconnexion-la-convention-de-cirque-de-la-fedecirque/
ATTACH;FMTTYPE=image/png:https://www.fedecirque.be/wp-content/uploads/2026/02/SAVE-THE-DATE-CIRQ-CONNEXION-2026.png
END:VEVENT
END:VCALENDAR